BEGIN:VCALENDAR
VERSION:2.0
PRODID:-//Gemeinde - ECPv5.3.1.1//NONSGML v1.0//EN
CALSCALE:GREGORIAN
METHOD:PUBLISH
X-WR-CALNAME:Gemeinde
X-ORIGINAL-URL:https://www.hannersdorf.at
X-WR-CALDESC:Veranstaltungen für Gemeinde
BEGIN:VTIMEZONE
TZID:Europe/Vienna
BEGIN:DAYLIGHT
TZOFFSETFROM:+0100
TZOFFSETTO:+0200
TZNAME:CEST
DTSTART:20240331T010000
END:DAYLIGHT
BEGIN:STANDARD
TZOFFSETFROM:+0200
TZOFFSETTO:+0100
TZNAME:CET
DTSTART:20241027T010000
END:STANDARD
END:VTIMEZONE
BEGIN:VEVENT
DTSTART;VALUE=DATE:20240818
DTEND;VALUE=DATE:20240819
DTSTAMP:20260422T103146
CREATED:20240201T162127Z
LAST-MODIFIED:20240812T161812Z
UID:4232-1723939200-1724025599@www.hannersdorf.at
SUMMARY:Hannersdorfer Zeltfest
DESCRIPTION:Bitte liken und folgen:
URL:https://www.hannersdorf.at/event/zeltfest-fruehschoppen-svh-feuerwehr/
LOCATION:Hannersdorf\, 7473
CATEGORIES:SV Hannersdorf,Veranstaltung
ATTACH;FMTTYPE=image/jpeg:https://www.hannersdorf.at/wp-content/uploads/2024/02/WhatsApp-Bild-2024-08-08-um-10.44.16_c27c219f.jpg
END:VEVENT
END:VCALENDAR