BEGIN:VCALENDAR
VERSION:2.0
PRODID:-//Gemeinde - ECPv5.3.1.1//NONSGML v1.0//EN
CALSCALE:GREGORIAN
METHOD:PUBLISH
X-WR-CALNAME:Gemeinde
X-ORIGINAL-URL:https://www.hannersdorf.at
X-WR-CALDESC:Veranstaltungen für Gemeinde
BEGIN:VTIMEZONE
TZID:Europe/Vienna
BEGIN:DAYLIGHT
TZOFFSETFROM:+0100
TZOFFSETTO:+0200
TZNAME:CEST
DTSTART:20240331T010000
END:DAYLIGHT
BEGIN:STANDARD
TZOFFSETFROM:+0200
TZOFFSETTO:+0100
TZNAME:CET
DTSTART:20241027T010000
END:STANDARD
END:VTIMEZONE
BEGIN:VEVENT
DTSTART;TZID=Europe/Vienna:20241111T170000
DTEND;TZID=Europe/Vienna:20241111T220000
DTSTAMP:20260422T103204
CREATED:20241024T133247Z
LAST-MODIFIED:20241024T133323Z
UID:4400-1731344400-1731362400@www.hannersdorf.at
SUMMARY:W E I N S E G N U N G am H a n n e r s b e r g
DESCRIPTION:Bitte liken und folgen:
URL:https://www.hannersdorf.at/event/we-i-n-s-e-g-n-u-n-g-am-h-a-n-n-e-r-s-b-e-r-g/
LOCATION:Hannersberg\, Hannersberg 1\, Hannersdorf\, 7473\, Österreich
CATEGORIES:Veranstaltung
ATTACH;FMTTYPE=image/png:https://www.hannersdorf.at/wp-content/uploads/2024/10/1729776703582-ffd906d0-ee78-4f42-a033-894221d89210_1.png
ORGANIZER;CN="Hannersdberg":MAILTO:Feiern@Hannersberg.at
END:VEVENT
END:VCALENDAR