BEGIN:VCALENDAR
VERSION:2.0
PRODID:-//Gemeinde - ECPv5.3.1.1//NONSGML v1.0//EN
CALSCALE:GREGORIAN
METHOD:PUBLISH
X-WR-CALNAME:Gemeinde
X-ORIGINAL-URL:https://www.hannersdorf.at
X-WR-CALDESC:Veranstaltungen für Gemeinde
BEGIN:VTIMEZONE
TZID:Europe/Vienna
BEGIN:DAYLIGHT
TZOFFSETFROM:+0100
TZOFFSETTO:+0200
TZNAME:CEST
DTSTART:20220327T010000
END:DAYLIGHT
BEGIN:STANDARD
TZOFFSETFROM:+0200
TZOFFSETTO:+0100
TZNAME:CET
DTSTART:20221030T010000
END:STANDARD
END:VTIMEZONE
BEGIN:VEVENT
DTSTART;TZID=Europe/Vienna:20220514T080000
DTEND;TZID=Europe/Vienna:20220514T100000
DTSTAMP:20260423T173546
CREATED:20220506T112354Z
LAST-MODIFIED:20220506T112354Z
UID:3670-1652515200-1652522400@www.hannersdorf.at
SUMMARY:ÜBERPRÜFUNG DER FEUERLÖSCHER
DESCRIPTION:WANN: Samstag\, 14. Mai 2022\nWO: Feuerwehrhaus Burg\nUHRZEIT: von 8 – 10 Uhr\nKOSTEN: € 7\,-\nDie Überprüfung wird durch die Firma Binder\ngegen o.g. Unkostenbeitrag durchgeführt.\nDie Überprüfung beinhaltet die Erneuerung\ndes Dichtmaterials und der Plakette. \nBitte liken und folgen:
URL:https://www.hannersdorf.at/event/ueberpruefung-der-feuerloescher/
LOCATION:Burg\, Burg\, Burgenland\, 7473\, Österreich
CATEGORIES:Veranstaltung
END:VEVENT
END:VCALENDAR