BEGIN:VCALENDAR
VERSION:2.0
PRODID:-//Gemeinde - ECPv5.3.1.1//NONSGML v1.0//EN
CALSCALE:GREGORIAN
METHOD:PUBLISH
X-WR-CALNAME:Gemeinde
X-ORIGINAL-URL:https://www.hannersdorf.at
X-WR-CALDESC:Veranstaltungen für Gemeinde
BEGIN:VTIMEZONE
TZID:Europe/Vienna
BEGIN:DAYLIGHT
TZOFFSETFROM:+0100
TZOFFSETTO:+0200
TZNAME:CEST
DTSTART:20220327T010000
END:DAYLIGHT
BEGIN:STANDARD
TZOFFSETFROM:+0200
TZOFFSETTO:+0100
TZNAME:CET
DTSTART:20221030T010000
END:STANDARD
END:VTIMEZONE
BEGIN:VEVENT
DTSTART;TZID=Europe/Vienna:20220527T180000
DTEND;TZID=Europe/Vienna:20220527T200000
DTSTAMP:20260423T183622
CREATED:20220527T091337Z
LAST-MODIFIED:20220527T091337Z
UID:3699-1653674400-1653681600@www.hannersdorf.at
SUMMARY:Präsentation der Ortschronik
DESCRIPTION:Bitte liken und folgen:
URL:https://www.hannersdorf.at/event/praesentation-der-ortschronik/
LOCATION:Hannersdorf\, 7473
ATTACH;FMTTYPE=image/jpeg:https://www.hannersdorf.at/wp-content/uploads/2022/05/60550E43-F8A5-4DB7-A026-2B02D9F225B8-scaled.jpeg
ORGANIZER;CN="Gemeinde%20Hannersdorf":MAILTO:post@hannersdorf.bgld.gv.at
END:VEVENT
END:VCALENDAR