BEGIN:VCALENDAR
VERSION:2.0
PRODID:-//Gemeinde - ECPv5.3.1.1//NONSGML v1.0//EN
CALSCALE:GREGORIAN
METHOD:PUBLISH
X-WR-CALNAME:Gemeinde
X-ORIGINAL-URL:https://www.hannersdorf.at
X-WR-CALDESC:Veranstaltungen für Gemeinde
BEGIN:VTIMEZONE
TZID:Europe/Vienna
BEGIN:DAYLIGHT
TZOFFSETFROM:+0100
TZOFFSETTO:+0200
TZNAME:CEST
DTSTART:20220327T010000
END:DAYLIGHT
BEGIN:STANDARD
TZOFFSETFROM:+0200
TZOFFSETTO:+0100
TZNAME:CET
DTSTART:20221030T010000
END:STANDARD
END:VTIMEZONE
BEGIN:VEVENT
DTSTART;VALUE=DATE:20220526
DTEND;VALUE=DATE:20220527
DTSTAMP:20260423T161552
CREATED:20220427T072516Z
LAST-MODIFIED:20220513T053931Z
UID:3659-1653523200-1653609599@www.hannersdorf.at
SUMMARY:Kirtag der FF Hannersdorf
DESCRIPTION:Bitte liken und folgen:
URL:https://www.hannersdorf.at/event/kirtag-der-ff-hannersdorf-2/
LOCATION:Feuerwehhaus Hannersdorf\, Hannersdorf\, Hannersdorf\, 7473
CATEGORIES:Veranstaltung
ATTACH;FMTTYPE=image/jpeg:https://www.hannersdorf.at/wp-content/uploads/2022/04/WhatsApp-Image-2022-05-13-at-06.25.32.jpeg
END:VEVENT
END:VCALENDAR