BEGIN:VCALENDAR
VERSION:2.0
PRODID:-//Gemeinde - ECPv5.3.1.1//NONSGML v1.0//EN
CALSCALE:GREGORIAN
METHOD:PUBLISH
X-WR-CALNAME:Gemeinde
X-ORIGINAL-URL:https://www.hannersdorf.at
X-WR-CALDESC:Veranstaltungen für Gemeinde
BEGIN:VTIMEZONE
TZID:Europe/Vienna
BEGIN:DAYLIGHT
TZOFFSETFROM:+0100
TZOFFSETTO:+0200
TZNAME:CEST
DTSTART:20230326T010000
END:DAYLIGHT
BEGIN:STANDARD
TZOFFSETFROM:+0200
TZOFFSETTO:+0100
TZNAME:CET
DTSTART:20231029T010000
END:STANDARD
END:VTIMEZONE
BEGIN:VEVENT
DTSTART;VALUE=DATE:20230331
DTEND;VALUE=DATE:20230405
DTSTAMP:20260424T094311
CREATED:20230308T091218Z
LAST-MODIFIED:20230308T091904Z
UID:4010-1680220800-1680652799@www.hannersdorf.at
SUMMARY:Buschenschank Wagner
DESCRIPTION:täglich ab 11 Uhr\nSonntags ab 14 Uhr\nReservierung möglich unter 0664/1511069\nHomepage: Weinbau Wagner \nBitte liken und folgen:
URL:https://www.hannersdorf.at/event/buschenschank-wagner-6/
LOCATION:Buschenschank Wagner\, Königsberg\, Hannersdorf\, 7473\, Österreich
CATEGORIES:Buschenschank
ATTACH;FMTTYPE=image/png:https://www.hannersdorf.at/wp-content/uploads/2020/02/wagner.png
END:VEVENT
END:VCALENDAR