BEGIN:VCALENDAR
VERSION:2.0
PRODID:-//Gemeinde - ECPv5.3.1.1//NONSGML v1.0//EN
CALSCALE:GREGORIAN
METHOD:PUBLISH
X-WR-CALNAME:Gemeinde
X-ORIGINAL-URL:https://www.hannersdorf.at
X-WR-CALDESC:Veranstaltungen für Gemeinde
BEGIN:VTIMEZONE
TZID:Europe/Vienna
BEGIN:DAYLIGHT
TZOFFSETFROM:+0100
TZOFFSETTO:+0200
TZNAME:CEST
DTSTART:20240331T010000
END:DAYLIGHT
BEGIN:STANDARD
TZOFFSETFROM:+0200
TZOFFSETTO:+0100
TZNAME:CET
DTSTART:20241027T010000
END:STANDARD
END:VTIMEZONE
BEGIN:VEVENT
DTSTART;VALUE=DATE:20240322
DTEND;VALUE=DATE:20240327
DTSTAMP:20260422T103012
CREATED:20240201T155848Z
LAST-MODIFIED:20240319T065227Z
UID:4204-1711065600-1711497599@www.hannersdorf.at
SUMMARY:Buschenschank Familie Wagner
DESCRIPTION:Bitte liken und folgen:
URL:https://www.hannersdorf.at/event/buschenschank-familie-wagner-4/
LOCATION:Buschenschank Wagner\, Königsberg\, Hannersdorf\, 7473\, Österreich
CATEGORIES:Buschenschank
ATTACH;FMTTYPE=image/png:https://www.hannersdorf.at/wp-content/uploads/2024/02/Buschenschank-Flyer-2024.png
END:VEVENT
END:VCALENDAR